{
 "currentVersion": 10.61,
 "serviceDescription": "2018 1 meter DEM LIDAR Generated Degree Slopes for Montezuma County",
 "mapName": "Layers",
 "description": "",
 "copyrightText": "",
 "supportsDynamicLayers": false,
 "layers": [
  {
   "id": 0,
   "name": "Degree Slope 1meter (2018)",
   "parentLayerId": -1,
   "defaultVisibility": true,
   "subLayerIds": null,
   "minScale": 0,
   "maxScale": 0
  }
 ],
 "tables": [],
 "spatialReference": {
  "wkid": 102655,
  "latestWkid": 2233
 },
 "singleFusedMapCache": true,
 "tileInfo": {
  "rows": 256,
  "cols": 256,
  "dpi": 96,
  "format": "PNG",
  "compressionQuality": 0,
  "origin": {
   "x": -119381300,
   "y": 150782800
  },
  "spatialReference": {
   "wkid": 102655,
   "latestWkid": 2233
  },
  "lods": [
   {
    "level": 0,
    "resolution": 108.50694444444444,
    "scale": 125000
   },
   {
    "level": 1,
    "resolution": 55.55555555555555,
    "scale": 64000
   },
   {
    "level": 2,
    "resolution": 27.777777777777775,
    "scale": 32000
   },
   {
    "level": 3,
    "resolution": 13.888888888888888,
    "scale": 16000
   },
   {
    "level": 4,
    "resolution": 6.944444444444444,
    "scale": 8000
   },
   {
    "level": 5,
    "resolution": 3.472222222222222,
    "scale": 4000
   },
   {
    "level": 6,
    "resolution": 1.736111111111111,
    "scale": 2000
   }
  ]
 },
 "initialExtent": {
  "xmin": 1936007.285739095,
  "ymin": 1199552.3534285154,
  "xmax": 2314023.378405762,
  "ymax": 1385852.5480951823,
  "spatialReference": {
   "wkid": 102655,
   "latestWkid": 2233
  }
 },
 "fullExtent": {
  "xmin": 1960506.1466557616,
  "ymin": 1129443.6120951823,
  "xmax": 2289524.5174890948,
  "ymax": 1373642.5987618489,
  "spatialReference": {
   "wkid": 102655,
   "latestWkid": 2233
  }
 },
 "minScale": 125000,
 "maxScale": 2000,
 "units": "esriFeet",
 "supportedImageFormatTypes": "PNG32,PNG24,PNG,JPG,DIB,TIFF,EMF,PS,PDF,GIF,SVG,SVGZ,BMP",
 "documentInfo": {
  "Title": "",
  "Author": "",
  "Comments": "2018 1 meter DEM LIDAR Generated Degree Slopes for Montezuma County",
  "Subject": "2018 LIDAR generated degree slopes for Montezuma County",
  "Category": "",
  "AntialiasingMode": "Best",
  "TextAntialiasingMode": "Force",
  "Keywords": "DEM,LIDAR,Degree Slope,Contour,Montezuma County"
 },
 "capabilities": "Data,Map,Query",
 "supportedQueryFormats": "JSON, AMF, geoJSON",
 "exportTilesAllowed": false,
 "supportsDatumTransformation": true,
 "maxRecordCount": 1000,
 "maxImageHeight": 4096,
 "maxImageWidth": 4096,
 "supportedExtensions": ""
}
