{
 "currentVersion": 10.61,
 "serviceDescription": "5 ft contours for Montezuma County Colorado",
 "mapName": "Layers",
 "description": "",
 "copyrightText": "",
 "supportsDynamicLayers": false,
 "layers": [
  {
   "id": 0,
   "name": "Contours5ft",
   "parentLayerId": -1,
   "defaultVisibility": true,
   "subLayerIds": null,
   "minScale": 0,
   "maxScale": 0
  }
 ],
 "tables": [],
 "spatialReference": {
  "wkid": 102655,
  "latestWkid": 2233
 },
 "singleFusedMapCache": true,
 "tileInfo": {
  "rows": 256,
  "cols": 256,
  "dpi": 96,
  "format": "PNG32",
  "compressionQuality": 0,
  "origin": {
   "x": -119381300,
   "y": 1.5078280000000003E8
  },
  "spatialReference": {
   "wkid": 102655,
   "latestWkid": 2233
  },
  "lods": [
   {
    "level": 0,
    "resolution": 108.50694444444444,
    "scale": 125000
   },
   {
    "level": 1,
    "resolution": 55.55555555555555,
    "scale": 64000
   },
   {
    "level": 2,
    "resolution": 27.777777777777775,
    "scale": 32000
   },
   {
    "level": 3,
    "resolution": 17.36111111111111,
    "scale": 20000
   },
   {
    "level": 4,
    "resolution": 10.416666666666666,
    "scale": 12000
   },
   {
    "level": 5,
    "resolution": 5.208333333333333,
    "scale": 6000
   },
   {
    "level": 6,
    "resolution": 2.6041666666666665,
    "scale": 3000
   },
   {
    "level": 7,
    "resolution": 1.3020833333333333,
    "scale": 1500
   }
  ]
 },
 "initialExtent": {
  "xmin": 1939369.6140882187,
  "ymin": 1239562.8256914888,
  "xmax": 2310492.9745158013,
  "ymax": 1422466.029111386,
  "spatialReference": {
   "wkid": 102655,
   "latestWkid": 2233
  }
 },
 "fullExtent": {
  "xmin": 1963999.1376564652,
  "ymin": 1129840.2380162328,
  "xmax": 2285863.450947553,
  "ymax": 1370553.2277178913,
  "spatialReference": {
   "wkid": 102655,
   "latestWkid": 2233
  }
 },
 "minScale": 125000,
 "maxScale": 1500,
 "units": "esriFeet",
 "supportedImageFormatTypes": "PNG32,PNG24,PNG,JPG,DIB,TIFF,EMF,PS,PDF,GIF,SVG,SVGZ,BMP",
 "documentInfo": {
  "Title": "",
  "Author": "",
  "Comments": "5 ft contours for Montezuma County Colorado",
  "Subject": "5 ft contours for Montezuma County Colorado",
  "Category": "",
  "AntialiasingMode": "Best",
  "TextAntialiasingMode": "Force",
  "Keywords": "Contours,Montezuma County,Cortez 5 foot,Topography"
 },
 "capabilities": "Data,Map,Query",
 "supportedQueryFormats": "JSON, AMF, geoJSON",
 "exportTilesAllowed": false,
 "supportsDatumTransformation": true,
 "maxRecordCount": 1000,
 "maxImageHeight": 4096,
 "maxImageWidth": 4096,
 "supportedExtensions": ""
}
