{
 "currentVersion": 10.61,
 "serviceDescription": "USDS Forest service wildfire risk to homes and development released in 2023",
 "mapName": "Layers",
 "description": "",
 "copyrightText": "",
 "supportsDynamicLayers": false,
 "layers": [
  {
   "id": 0,
   "name": "Wildfire Risk to Homes or Potential Structures (2023)",
   "parentLayerId": -1,
   "defaultVisibility": true,
   "subLayerIds": null,
   "minScale": 0,
   "maxScale": 0
  }
 ],
 "tables": [],
 "spatialReference": {
  "wkid": 102655,
  "latestWkid": 2233
 },
 "singleFusedMapCache": true,
 "tileInfo": {
  "rows": 256,
  "cols": 256,
  "dpi": 96,
  "format": "MIXED",
  "compressionQuality": 75,
  "origin": {
   "x": -119381300,
   "y": 1.5078280000000003E8
  },
  "spatialReference": {
   "wkid": 102655,
   "latestWkid": 2233
  },
  "lods": [
   {
    "level": 0,
    "resolution": 520.8333333333333,
    "scale": 600000
   },
   {
    "level": 1,
    "resolution": 260.41666666666663,
    "scale": 300000
   },
   {
    "level": 2,
    "resolution": 130.20833333333331,
    "scale": 150000
   },
   {
    "level": 3,
    "resolution": 65.10416666666666,
    "scale": 75000
   },
   {
    "level": 4,
    "resolution": 43.40277777777778,
    "scale": 50000
   },
   {
    "level": 5,
    "resolution": 21.70138888888889,
    "scale": 25000
   }
  ]
 },
 "initialExtent": {
  "xmin": 1877784.3690889925,
  "ymin": 1240177.2619210302,
  "xmax": 2653826.0357556595,
  "ymax": 1598510.5952543637,
  "spatialReference": {
   "wkid": 102655,
   "latestWkid": 2233
  }
 },
 "fullExtent": {
  "xmin": 1913358.7835062414,
  "ymin": 1056131.2121369583,
  "xmax": 2527235.5085062413,
  "ymax": 1575815.2121369583,
  "spatialReference": {
   "wkid": 102655,
   "latestWkid": 2233
  }
 },
 "minScale": 600000,
 "maxScale": 25000,
 "units": "esriFeet",
 "supportedImageFormatTypes": "PNG32,PNG24,PNG,JPG,DIB,TIFF,EMF,PS,PDF,GIF,SVG,SVGZ,BMP",
 "documentInfo": {
  "Title": "",
  "Author": "",
  "Comments": "USDS Forest service wildfire risk to homes and development released April 2020",
  "Subject": "Wildfire Risk to Homes/Potential Structures (2020)",
  "Category": "",
  "AntialiasingMode": "None",
  "TextAntialiasingMode": "Force",
  "Keywords": "Wildfire risk,2020,SW colorado"
 },
 "capabilities": "Data,Map,Query",
 "supportedQueryFormats": "JSON, AMF, geoJSON",
 "exportTilesAllowed": false,
 "supportsDatumTransformation": true,
 "maxRecordCount": 1000,
 "maxImageHeight": 4096,
 "maxImageWidth": 4096,
 "supportedExtensions": ""
}
