{
 "currentVersion": 10.61,
 "serviceDescription": "City of Cortez 2005 aerial imagery 6 inch 200 scale",
 "mapName": "Layers",
 "description": "",
 "copyrightText": "",
 "supportsDynamicLayers": false,
 "layers": [
  {
   "id": 0,
   "name": "City of Cortez 2005 HiRes",
   "parentLayerId": -1,
   "defaultVisibility": true,
   "subLayerIds": null,
   "minScale": 0,
   "maxScale": 0
  }
 ],
 "tables": [],
 "spatialReference": {
  "wkid": 102655,
  "latestWkid": 2233
 },
 "singleFusedMapCache": true,
 "tileInfo": {
  "rows": 256,
  "cols": 256,
  "dpi": 96,
  "format": "MIXED",
  "compressionQuality": 75,
  "origin": {
   "x": -119381300,
   "y": 1.5078280000000003E8
  },
  "spatialReference": {
   "wkid": 102655,
   "latestWkid": 2233
  },
  "lods": [
   {
    "level": 0,
    "resolution": 27.777777777777775,
    "scale": 32000
   },
   {
    "level": 1,
    "resolution": 13.888888888888888,
    "scale": 16000
   },
   {
    "level": 2,
    "resolution": 6.944444444444444,
    "scale": 8000
   },
   {
    "level": 3,
    "resolution": 3.472222222222222,
    "scale": 4000
   },
   {
    "level": 4,
    "resolution": 1.736111111111111,
    "scale": 2000
   },
   {
    "level": 5,
    "resolution": 0.8680555555555555,
    "scale": 1000
   },
   {
    "level": 6,
    "resolution": 0.43402777777777773,
    "scale": 500
   }
  ]
 },
 "initialExtent": {
  "xmin": 2081740.0199600798,
  "ymin": 1254992.4733865606,
  "xmax": 2127573.353293413,
  "ymax": 1278881.362275449,
  "spatialReference": {
   "wkid": 102655,
   "latestWkid": 2233
  }
 },
 "fullExtent": {
  "xmin": 2093000,
  "ymin": 1246500,
  "xmax": 2117000,
  "ymax": 1276500,
  "spatialReference": {
   "wkid": 102655,
   "latestWkid": 2233
  }
 },
 "minScale": 32000,
 "maxScale": 500,
 "units": "esriFeet",
 "supportedImageFormatTypes": "PNG32,PNG24,PNG,JPG,DIB,TIFF,EMF,PS,PDF,GIF,SVG,SVGZ,BMP",
 "documentInfo": {
  "Title": "",
  "Author": "",
  "Comments": "City of Cortez 2005 aerial imagery 6 inch 200 scale",
  "Subject": "City of Cortez 2005 aerial imagery 6 inch 200 scale",
  "Category": "",
  "AntialiasingMode": "None",
  "TextAntialiasingMode": "Force",
  "Keywords": "City of Cortez,2005,aerial imagery"
 },
 "capabilities": "Data,Map",
 "supportedQueryFormats": "JSON, AMF, geoJSON",
 "exportTilesAllowed": false,
 "supportsDatumTransformation": true,
 "maxRecordCount": 1000,
 "maxImageHeight": 4096,
 "maxImageWidth": 4096,
 "supportedExtensions": ""
}
